BEGIN:VCALENDAR
VERSION:2.0
PRODID:-//Tukios.com/
BEGIN:VEVENT
UID:c0320cb5-bc31-40aa-ac61-4c245cc4611f@www.sheridanfuneralhomeva.com
DTSTAMP:20260422T162834Z
DTSTART:20260425T180000Z
DTEND:20260425T190000Z
SUMMARY:Graveside Service
DESCRIPTION:
URL:https://www.sheridanfuneralhomeva.com/obituaries/van-stephenson-jr
LOCATION:The Dillard Coffey Family Cemetery 714 Dug Hill Road  Amherst VA 
	24521
GEO:37.6942876;-79.0851544
END:VEVENT
END:VCALENDAR